BEGIN:VCALENDAR
VERSION:2.0
PRODID:https://www.usitawi.org
METHOD:PUBLISH
BEGIN:VEVENT
LOCATION:<span>Haus der Universität,</span> <span>Schlösslistrasse 5,</span> <span>3008&nbsp;Bern</span>
SUMMARY:Abendanlass: Ethisches Banking am Beispiel der Alternativen Bank Schweiz
DESCRIPTION:An diesem Abend, der sich speziell auch an Interessent:innen richtet, berichtet die Alternative Bank Schweiz über ihr Verständnis von ethischem Banking und wie es von der Bank gelebt wird.
CLASS:PUBLIC
DTSTART:20260616T183000
DTEND:20260616T220000
END:VEVENT
END:VCALENDAR