BEGIN:VCALENDAR
VERSION:2.0
PRODID:https://www.usitawi.org
METHOD:PUBLISH
BEGIN:VEVENT
LOCATION:<span>USM,</span> <span>Thunstrasse 55,</span> <span>3110&nbsp;Münsingen</span>
SUMMARY:Abendanlass: Besuch bei USM Haller
DESCRIPTION:Wir haben die Gelegenheit, USM Haller in Münsingen zu besuchen. Dabei erfahren wir viel Interessantes über Entstehung und Entwicklung dieses Möbelsystems, das als Designklassiker gilt.
CLASS:PUBLIC
DTSTART:20260217T183000
DTEND:20260217T220000
END:VEVENT
END:VCALENDAR