BEGIN:VCALENDAR
VERSION:2.0
PRODID:https://www.usitawi.org
METHOD:PUBLISH
BEGIN:VEVENT
LOCATION:<span>Restaurant O bolles,</span> <span>Bollwerk 35,</span> <span>3011&nbsp;Bern</span>
SUMMARY:Abendanlass: Gespräch mit Pia Tschannen über fairness at work und SENS
DESCRIPTION:Mit Pia Tschannen von fairness at work sprechen wir darüber, wie das Thema Nachhaltigkeit ihre Berufstätigkeit von Anfang an prägte. ACHTUNG: Der Anlass beginnt um 18.30 Uhr (Eintreffen ab 18 Uhr)
CLASS:PUBLIC
DTSTART:20250121T180000
DTEND:20250121T203000
END:VEVENT
END:VCALENDAR