BEGIN:VCALENDAR
VERSION:2.0
PRODID:https://www.usitawi.org
METHOD:PUBLISH
BEGIN:VEVENT
LOCATION:<span>Restaurant O bolles,</span> <span>Bollwerk 35,</span> <span>3011&nbsp;Bern</span>
SUMMARY:Abendanlass: Erfahrungsbericht über Permakulturprojekte
DESCRIPTION:Joana und Lukas, die wir bereits von ihrem Startup "Bäumlischafft" her kennen, berichten uns über die Erfahrungen mit zwei Permakulturprojekten, die sie bereits seit einiger Zeit begleiten.
CLASS:PUBLIC
DTSTART:20251118T183000
DTEND:20251118T220000
END:VEVENT
END:VCALENDAR