BEGIN:VCALENDAR
VERSION:2.0
PRODID:https://www.usitawi.org
METHOD:PUBLISH
BEGIN:VEVENT
LOCATION:<span>Kursaal, Restaurant Giardino,</span> <span>Kornhausstrasse 3,</span> <span>3013&nbsp;Bern</span>
SUMMARY:Abendanlass: Gespräch über "Raumzeit"
DESCRIPTION:Im Gespräch mit Hans Kammer von unserem Club erklärt Prof. Christian Wüthrich das Konzept der Raumzeit. Dabei wird berücksichtigt, dass die meisten Teilnehmenden keinen Physik- oder Philosophie-Hintergrund haben. Sie sollen die Hintergründe des Themas begreifen können.
CLASS:PUBLIC
DTSTART:20250617T183000
DTEND:20250617T220000
END:VEVENT
END:VCALENDAR