BEGIN:VCALENDAR
VERSION:2.0
PRODID:https://www.usitawi.org
METHOD:PUBLISH
BEGIN:VEVENT
LOCATION:<span>Restaurant O bolles,</span> <span>Bollwerk 35,</span> <span>3011&nbsp;Bern</span>
SUMMARY:Abendanlass: Was es bedeutet, eine Schweizer Schule im Ausland zu leiten
DESCRIPTION:Am Beispiel der Schweizer Schule in Bangkok berichtet Daniel Halter über die vielseitigen Herausforderungen als Direktor einer Schweizer Auslandschule.
CLASS:PUBLIC
DTSTART:20250218T183000
DTEND:20250218T220000
END:VEVENT
END:VCALENDAR