BEGIN:VCALENDAR
VERSION:2.0
PRODID:https://www.usitawi.org
METHOD:PUBLISH
BEGIN:VEVENT
LOCATION:<span>Restaurant O bolles,</span> <span>Bollwerk 35,</span> <span>3011&nbsp;Bern</span>
SUMMARY:Abendanlass: Weder Pflanze noch Tier – Pilz!
DESCRIPTION:Ein Element der Ökosysteme, das uns häufig nicht bewusst ist: Nicolas Küffer führt uns ein in die Welt der Pilze.
CLASS:PUBLIC
DTSTART:20241119T183000
DTEND:20241119T220000
END:VEVENT
END:VCALENDAR