BEGIN:VCALENDAR
VERSION:2.0
PRODID:https://www.usitawi.org
METHOD:PUBLISH
BEGIN:VEVENT
LOCATION:<span></span>
SUMMARY:Sommerausflug in die Broye Gourmande
DESCRIPTION:Dieses Jahr führt uns der Sommerausflug in das Broyetal. Auf dem Programm steht der Besuch des Musée romain in Vallon sowie ein Rundgang durch Avenches. Im Städtchen Avenches erwartet uns ein stimmungsvolles Abendessen.
CLASS:PUBLIC
DTSTART:20250830T144500
DTEND:20250830T220000
END:VEVENT
END:VCALENDAR