BEGIN:VCALENDAR
VERSION:2.0
PRODID:https://www.usitawi.org
METHOD:PUBLISH
BEGIN:VEVENT
LOCATION:<span>Haus der Universität,</span> <span>Schlösslistr. 5,</span> <span>3008&nbsp;Bern</span>
SUMMARY:Vortragslunch: Aktuelles rund um die PV
DESCRIPTION:Aurel Schmid, Gründer von Solarify GmbH, berichtet über neue Entwicklungen rund um die Photovoltaik.
CLASS:PUBLIC
DTSTART:20250624T120000
DTEND:20250624T123000
END:VEVENT
END:VCALENDAR